BEGIN:VCALENDAR
VERSION:2.0
PRODID:-//Metodistkirken i Danmark - ECPv6.15.20//NONSGML v1.0//EN
CALSCALE:GREGORIAN
METHOD:PUBLISH
X-ORIGINAL-URL:https://www.metodistkirken.dk
X-WR-CALDESC:Begivenheder for Metodistkirken i Danmark
REFRESH-INTERVAL;VALUE=DURATION:PT1H
X-Robots-Tag:noindex
X-PUBLISHED-TTL:PT1H
BEGIN:VTIMEZONE
TZID:Europe/Copenhagen
BEGIN:DAYLIGHT
TZOFFSETFROM:+0100
TZOFFSETTO:+0200
TZNAME:CEST
DTSTART:20170326T010000
END:DAYLIGHT
BEGIN:STANDARD
TZOFFSETFROM:+0200
TZOFFSETTO:+0100
TZNAME:CET
DTSTART:20171029T010000
END:STANDARD
BEGIN:DAYLIGHT
TZOFFSETFROM:+0100
TZOFFSETTO:+0200
TZNAME:CEST
DTSTART:20180325T010000
END:DAYLIGHT
BEGIN:STANDARD
TZOFFSETFROM:+0200
TZOFFSETTO:+0100
TZNAME:CET
DTSTART:20181028T010000
END:STANDARD
BEGIN:DAYLIGHT
TZOFFSETFROM:+0100
TZOFFSETTO:+0200
TZNAME:CEST
DTSTART:20190331T010000
END:DAYLIGHT
BEGIN:STANDARD
TZOFFSETFROM:+0200
TZOFFSETTO:+0100
TZNAME:CET
DTSTART:20191027T010000
END:STANDARD
END:VTIMEZONE
BEGIN:VEVENT
DTSTART;TZID=Europe/Copenhagen:20180303T090000
DTEND;TZID=Europe/Copenhagen:20180304T163000
DTSTAMP:20260426T025652
CREATED:20171212T110448Z
LAST-MODIFIED:20171212T110448Z
UID:10000034-1520067600-1520181000@www.metodistkirken.dk
SUMMARY:Young Copenhagen Gospel Festival 2018
DESCRIPTION:En weekend med masser af gospelsang og nye venskaber!  \nEr du mellem 9 og 19 år\, og har du lyst til at synge gospel en hel weekend? Det kan du komme lørdag og søndag d. 3. og 4. marts 2018\, når der igen er Young Copenhagen Gospel Festival (YCGF) i Jerusalemskirken i København! \nI år har vi Sharlene-Monique Morris fra London og Katrine Brøndsted fra København som instruktører.  Du bliver en del af et stort kor\, som sammen lærer de sange instuktørerne har med l weekenden. Søndag er du en af stjernerne ved en stor en koncert med band\, hvor jeres forældre\, søskende\, venner og alle mulige andre kommer og hører koret! \nKoncert i Jerusalemskirken søndag d. 4. marts 2018 kl. 15.00 med band \nInstruktører på YCGF 2018 \nSharlene-Monique Morris kommer fra London og er en meget talentfuld dirigent og sanger. Hun har modtaget dirigentpriser og er vant til at arbejde med børn og unge. Hun har været i TV-shows og udgivet flere sange. \nKathrine Brøndsted har mange års erfaring som gospelsanger\, gospeldirigent og sangskriver. Kathrine leder børnekoret My Gospel i Gentofte og er ansat som kreativ projektleder på Institut Sankt Joseph på Østerbro. \nVaughan Larmond er en meget dygtig pianist. Han har spillet klaver siden han var 6 år\, men han kan faktisk spille syv andre instrumenter! Han er vokset op med gospel\, været med i mange forskellige kor og spillet på festivaler i både Europa og USA. \nSådan tilmelder du dig  \nDet koster 295 kr. at være med i weekenden \nFor det beløb får du en t-shirt til koncerten søndag\, sangtekster\, te\, saftevand og snack/kage i pauserne. \nBeløbet skal indbetales på kontonummer 1551 000 545 3038 eller MobilePay på 5160 4851 (Anni Hedegaard Jensen). Husk: Skriv ”YCGF” og tydeligt navn. \nSå skal du sende en mail til info@Gospel.dk med navn\, adresse\, evt. madbestilling og – HUSK– den størrelse t-shirt du skal bruge. \nSidste frist for tilmelding er den 21. februar 2018\, men gerne hurtigst muligt. \nBemærk: Du må gerne tage en voksen med på festivalen. Det koster 125 kr. plus betaling af måltider (se længere nede). Har du andre spørgsmål\, kan du hurtigt få svar på dem på mailadressen info@Gospel.dk. \nBor du langt væk\, kan du overnatte primitivt\, hvis du tager sovepose og liggeunderlag med. Tilmeld dig overnatning i mailen. Der er ikke voksenovervågning ved overnatning\, kun hvis man selv har en voksen med. \nVil du være fri for madpakkerne\, så kan du også bestille mad: Frokost lørdag\, aftensmad lørdag og frokost søndag\, 40 kr. pr. måltid. Overnatter du og skal have morgenmad søndag morgen koster det 25 kr. Skriv i en mail til info@Gospel.dk\, hvilke måltider du vil have. Indbetal beløbet for maden sammen med deltagergebyret\, så klarer vi resten. \nNU er du med – så er det bare om at møde op lørdag morgen kl. 9. Vi øver sangene om lørdagen\, selvfølgelig med små pauser\, hvor du kan spise\, snakke og hygge dig med de andre! Søndag mødes vi kl. 9.30\, vi synger et par af sangene ved gudstjenesten kl. 11\, og så har vi den store afslutningskoncert kl. 15. \nFølg os på facebook: https://www.facebook.com/groups/gospelDK\, hvor du også kan se video fra tidligere år. \n  \nVi glæder os til at se dig \nProgram:  \nLØRDAG D. 3. MARTS \nKl. 9.00-9.30 Check-in i krypten i Jerusalems- kirken \nKl. 9.30 Øvelser (inkl. pause) \nKl. 12.30 Frokost \nKl. 18 Aftensmad for de\, som har bestilt – man kan også tage hjem\, når øvelserne er slut \nKl. 13.30-18.00 Øvelser (inkl. pause) \n  \nSØNDAG D. 4. MARTS \nKl. 9.30 – 10.30 Øvelser \nKl. 11.00 Gudstjeneste i Jerusalemskirken – hvor YCGF-koret medvirker \nKl. 12.00 Frokost \nKl. 13.00-14:30 Øvelser og generalprøve \nKl. 15.00-16.30 Koncert med band i Jerusalemskirken \nBilletter i døren fra kl. 14.30 \nVoksne 60 kr. Børn 5-12 år 30 kr. \nHusk at invitere familie\, venner og klassekammerater. \n 
URL:https://www.metodistkirken.dk/kalender/young-copenhagen-gospel-festival-2018/
LOCATION:Jerusalemskirken\, Rigensgade 19\, København K.\, 1316\, Danmark
CATEGORIES:Gospel,Lejre,MBUF,Musik
ATTACH;FMTTYPE=image/jpeg:https://www.metodistkirken.dk/wp-content/uploads/2017/03/YCGF-koncert-kor.jpg
END:VEVENT
BEGIN:VEVENT
DTSTART;TZID=Europe/Copenhagen:20180316T183000
DTEND;TZID=Europe/Copenhagen:20180318T123000
DTSTAMP:20260426T025652
CREATED:20171011T085454Z
LAST-MODIFIED:20180306T111229Z
UID:10000058-1521225000-1521376200@www.metodistkirken.dk
SUMMARY:LIW 2018 -MBUFs Leder Inspirations Weekend
DESCRIPTION:
URL:https://www.metodistkirken.dk/kalender/liw-mbufs-leder-inspirations-weekend/
LOCATION:Solborgen\, Strandgårdsleddet 2\, Vig\, 4560\, Danmark
CATEGORIES:Gospel,Lejre,MBUF,Musik,Spejder,Unge
ATTACH;FMTTYPE=image/jpeg:https://www.metodistkirken.dk/wp-content/uploads/2017/11/2018-LIW-.jpg
END:VEVENT
END:VCALENDAR