BEGIN:VCALENDAR
VERSION:2.0
PRODID:-//Metodistkirken i Danmark - ECPv6.15.20//NONSGML v1.0//EN
CALSCALE:GREGORIAN
METHOD:PUBLISH
X-ORIGINAL-URL:https://www.metodistkirken.dk
X-WR-CALDESC:Begivenheder for Metodistkirken i Danmark
REFRESH-INTERVAL;VALUE=DURATION:PT1H
X-Robots-Tag:noindex
X-PUBLISHED-TTL:PT1H
BEGIN:VTIMEZONE
TZID:Europe/Copenhagen
BEGIN:DAYLIGHT
TZOFFSETFROM:+0100
TZOFFSETTO:+0200
TZNAME:CEST
DTSTART:20180325T010000
END:DAYLIGHT
BEGIN:STANDARD
TZOFFSETFROM:+0200
TZOFFSETTO:+0100
TZNAME:CET
DTSTART:20181028T010000
END:STANDARD
BEGIN:DAYLIGHT
TZOFFSETFROM:+0100
TZOFFSETTO:+0200
TZNAME:CEST
DTSTART:20190331T010000
END:DAYLIGHT
BEGIN:STANDARD
TZOFFSETFROM:+0200
TZOFFSETTO:+0100
TZNAME:CET
DTSTART:20191027T010000
END:STANDARD
BEGIN:DAYLIGHT
TZOFFSETFROM:+0100
TZOFFSETTO:+0200
TZNAME:CEST
DTSTART:20200329T010000
END:DAYLIGHT
BEGIN:STANDARD
TZOFFSETFROM:+0200
TZOFFSETTO:+0100
TZNAME:CET
DTSTART:20201025T010000
END:STANDARD
END:VTIMEZONE
BEGIN:VEVENT
DTSTART;TZID=Europe/Copenhagen:20190615T093000
DTEND;TZID=Europe/Copenhagen:20190615T150000
DTSTAMP:20260423T215615
CREATED:20180912T102546Z
LAST-MODIFIED:20190528T202442Z
UID:10000023-1560591000-1560610800@www.metodistkirken.dk
SUMMARY:ERFA – dag for pastoralkomiter\, menighedsråd samt lægpersoner i øvrige bestyrelser\, som arbejder med ledelse af ansatte og frivillige.ag for pastoralkomiteer
DESCRIPTION:ERFA – dag for pastoralkomiter\, menighedsråd samt lægpersoner i øvrige bestyrelser\, som arbejder med ledelse af ansatte og frivillige.   \nLørdag d. 15. juni 2019 kl. 9.30 til ca. kl. 15.00\nSkt. Pouls Kirke; Vissingsgade 15 A\, 7100 Vejle. \nSom varslet tidligere vil Landsledelsen gerne invitere jer til en ERFA-dag som opfølgning på sidste års ERFA-dag. \nTemaet i år bliver ”Hvad er ledelse”. Et emne\, som er meget vigtig for vores kirke. \nBruno Lauritzen\, som arbejder med HR i det private erhvervsliv har tilbudt at holde oplæg for os. Oplægget vil handle om personligt lederskab\, selvledelse\, situationsbestemt ledelse\, ledelsesstile og networking. \nVi håber\, at denne dag kan være til inspiration for jer i jeres arbejde rundt i menighederne og bestyrelserne. \nVi håber flest mulige vil prioritere at deltage. \nTilmelding til engbjerg@post8.tele.dksenest d. 7.6.2019 \nProgrammet er som følger: \n\nVelkomst ved Landsledelsen\nOplæg om ”Hvad er ledelse” ved Bruno Lauritzen.\nHvad tager vi med os og hvordan vil vi anvende det? v. / Hanne Engbjerg og Jan Thaarup\n\nDer serveres kaffe og morgenbrød fra kl. 9:30\, så vi er klar til at starte på programmet kl. 10:00 \nFrokost ca. kl. 12:30 \nKaffe og kage inden afslutningen. \nPå vegne af Landsledelsen \nHanne Engbjerg                    Jan Thaarup\nFormand                               Næstformand
URL:https://www.metodistkirken.dk/kalender/erfa-dag-for-pastoralkomiteer/
LOCATION:Metodistkirken Vejle\, Vissingsgade 15\, Vejle\, 7100\, Danmark
CATEGORIES:Metodistkirken
ATTACH;FMTTYPE=image/jpeg:https://www.metodistkirken.dk/wp-content/uploads/2018/09/2018-Erfa-dag.jpg
END:VEVENT
END:VCALENDAR