BEGIN:VCALENDAR
VERSION:2.0
PRODID:-//Metodistkirken i Danmark - ECPv6.15.20//NONSGML v1.0//EN
CALSCALE:GREGORIAN
METHOD:PUBLISH
X-WR-CALNAME:Metodistkirken i Danmark
X-ORIGINAL-URL:https://www.metodistkirken.dk
X-WR-CALDESC:Begivenheder for Metodistkirken i Danmark
REFRESH-INTERVAL;VALUE=DURATION:PT1H
X-Robots-Tag:noindex
X-PUBLISHED-TTL:PT1H
BEGIN:VTIMEZONE
TZID:Europe/Copenhagen
BEGIN:DAYLIGHT
TZOFFSETFROM:+0100
TZOFFSETTO:+0200
TZNAME:CEST
DTSTART:20180325T010000
END:DAYLIGHT
BEGIN:STANDARD
TZOFFSETFROM:+0200
TZOFFSETTO:+0100
TZNAME:CET
DTSTART:20181028T010000
END:STANDARD
BEGIN:DAYLIGHT
TZOFFSETFROM:+0100
TZOFFSETTO:+0200
TZNAME:CEST
DTSTART:20190331T010000
END:DAYLIGHT
BEGIN:STANDARD
TZOFFSETFROM:+0200
TZOFFSETTO:+0100
TZNAME:CET
DTSTART:20191027T010000
END:STANDARD
BEGIN:DAYLIGHT
TZOFFSETFROM:+0100
TZOFFSETTO:+0200
TZNAME:CEST
DTSTART:20200329T010000
END:DAYLIGHT
BEGIN:STANDARD
TZOFFSETFROM:+0200
TZOFFSETTO:+0100
TZNAME:CET
DTSTART:20201025T010000
END:STANDARD
END:VTIMEZONE
BEGIN:VEVENT
DTSTART;TZID=Europe/Copenhagen:20190529T080000
DTEND;TZID=Europe/Copenhagen:20190602T170000
DTSTAMP:20260423T225521
CREATED:20190219T103158Z
LAST-MODIFIED:20190219T103158Z
UID:10000002-1559116800-1559494800@www.metodistkirken.dk
SUMMARY:Himmelske Dage på Heden
DESCRIPTION:Den 30. maj til 2. juni er vi alle sammen inviteret til Danmarks Største kirkelige folkefest og festival i Herning – Himmelske Dage på Heden.\nI løbet af fire dage vil der være myriader\, af gudstjenester\, foredrag\, koncerter\, workshops\, tid til eftertanke og et stort show i Jyske Bank Boxen. Her er et lille udpluk af det man kan komme til at opleve. \nÅbningsgudstjeneste på Herning Torv\nEn stor økumenisk gudstjeneste skyder Himmelske Dage på Heden i gang. Her er alle kirkekor fra stiftet inviteret til at medvirke i en stort kirkekor\, som synger for på fællessangen\, alle stiftets menigheder opfordres til at deltage. Biskop Henrik Stubkjær vil være blandt talerne i gudstjenesten. \nTeologisk Døgn\nFredag og lørdag har stiftets teologiske konsulent sammen med de teologiske uddannelsesinstitutioner sammensat et spændende program\, hvor stærke teologer fra ind- og udland vil formidle spændende emner på et folkeligt niveau. \nBibellegeland\nHimmelske Dage på Heden er også for børn. Torsdag\, fredag og lørdag er der en række børneaktiviteter\, blandt andet laver en række kirke og kulturmedarbejdere et Bibellegeland\, hvor man kan møde personer fra Bibelen. \nDet er allerede nu muligt at købe billet på: himmelskedage.dk
URL:https://www.metodistkirken.dk/kalender/himmelske-dage-paa-heden/
CATEGORIES:Between,Børn,Gospel,Lejre,MBUF,Metodistkirken,Musik,Senior,Spejder,Unge
ATTACH;FMTTYPE=image/jpeg:https://www.metodistkirken.dk/wp-content/uploads/2019/02/HimmelskeDagePaaHeden_sky.jpg
END:VEVENT
END:VCALENDAR