BEGIN:VCALENDAR
VERSION:2.0
PRODID:-//Metodistkirken i Danmark - ECPv6.15.20//NONSGML v1.0//EN
CALSCALE:GREGORIAN
METHOD:PUBLISH
X-WR-CALNAME:Metodistkirken i Danmark
X-ORIGINAL-URL:https://www.metodistkirken.dk
X-WR-CALDESC:Begivenheder for Metodistkirken i Danmark
REFRESH-INTERVAL;VALUE=DURATION:PT1H
X-Robots-Tag:noindex
X-PUBLISHED-TTL:PT1H
BEGIN:VTIMEZONE
TZID:Europe/Copenhagen
BEGIN:DAYLIGHT
TZOFFSETFROM:+0100
TZOFFSETTO:+0200
TZNAME:CEST
DTSTART:20180325T010000
END:DAYLIGHT
BEGIN:STANDARD
TZOFFSETFROM:+0200
TZOFFSETTO:+0100
TZNAME:CET
DTSTART:20181028T010000
END:STANDARD
BEGIN:DAYLIGHT
TZOFFSETFROM:+0100
TZOFFSETTO:+0200
TZNAME:CEST
DTSTART:20190331T010000
END:DAYLIGHT
BEGIN:STANDARD
TZOFFSETFROM:+0200
TZOFFSETTO:+0100
TZNAME:CET
DTSTART:20191027T010000
END:STANDARD
BEGIN:DAYLIGHT
TZOFFSETFROM:+0100
TZOFFSETTO:+0200
TZNAME:CEST
DTSTART:20200329T010000
END:DAYLIGHT
BEGIN:STANDARD
TZOFFSETFROM:+0200
TZOFFSETTO:+0100
TZNAME:CET
DTSTART:20201025T010000
END:STANDARD
END:VTIMEZONE
BEGIN:VEVENT
DTSTART;VALUE=DATE:20190504
DTEND;VALUE=DATE:20190505
DTSTAMP:20260423T232244
CREATED:20190409T100018Z
LAST-MODIFIED:20190409T100018Z
UID:10000006-1556928000-1557014399@www.metodistkirken.dk
SUMMARY:Idrætsefterskolen Lægården: 50 årsjubilæum
DESCRIPTION:Idrætsefterskolen Lægården byder jubilarer velkomne tilbage på Lægården til en tur ned af memory lane. Dette år er dagen ekstra stor da skolen også fejrer 50 års jubilæum. Info omkring dagen vil kunne findes på Lægårdens facebook-side.
URL:https://www.metodistkirken.dk/kalender/idraetsefterskolen-laegaarden-50-aarsjubilaeum/
LOCATION:Idrætsefterskolen Lægården\, Lægårdvej 72\, Holstebro\, 7500
CATEGORIES:Metodistkirken
ATTACH;FMTTYPE=image/png:https://www.metodistkirken.dk/wp-content/uploads/2017/06/logo-large-1.png
END:VEVENT
END:VCALENDAR