BEGIN:VCALENDAR
VERSION:2.0
PRODID:-//Metodistkirken i Danmark - ECPv6.15.20//NONSGML v1.0//EN
CALSCALE:GREGORIAN
METHOD:PUBLISH
X-ORIGINAL-URL:https://www.metodistkirken.dk
X-WR-CALDESC:Begivenheder for Metodistkirken i Danmark
REFRESH-INTERVAL;VALUE=DURATION:PT1H
X-Robots-Tag:noindex
X-PUBLISHED-TTL:PT1H
BEGIN:VTIMEZONE
TZID:Europe/Copenhagen
BEGIN:DAYLIGHT
TZOFFSETFROM:+0100
TZOFFSETTO:+0200
TZNAME:CEST
DTSTART:20170326T010000
END:DAYLIGHT
BEGIN:STANDARD
TZOFFSETFROM:+0200
TZOFFSETTO:+0100
TZNAME:CET
DTSTART:20171029T010000
END:STANDARD
BEGIN:DAYLIGHT
TZOFFSETFROM:+0100
TZOFFSETTO:+0200
TZNAME:CEST
DTSTART:20180325T010000
END:DAYLIGHT
BEGIN:STANDARD
TZOFFSETFROM:+0200
TZOFFSETTO:+0100
TZNAME:CET
DTSTART:20181028T010000
END:STANDARD
BEGIN:DAYLIGHT
TZOFFSETFROM:+0100
TZOFFSETTO:+0200
TZNAME:CEST
DTSTART:20190331T010000
END:DAYLIGHT
BEGIN:STANDARD
TZOFFSETFROM:+0200
TZOFFSETTO:+0100
TZNAME:CET
DTSTART:20191027T010000
END:STANDARD
END:VTIMEZONE
BEGIN:VEVENT
DTSTART;TZID=Europe/Copenhagen:20180804T160000
DTEND;TZID=Europe/Copenhagen:20180811T100000
DTSTAMP:20260424T122631
CREATED:20180312T102008Z
LAST-MODIFIED:20180312T102008Z
UID:10000031-1533398400-1533981600@www.metodistkirken.dk
SUMMARY:Sommerhøjskole
DESCRIPTION:Her bliver du beriget af både fællesskab og foredrag. \nFra lørdag d. 4.- lørdag d. 11. august 2018 afholdes sommerhøjskolen på Solborgen i Vig. \nSommerhøjskole er ferie med indhold. \n\nBibeltime hver formiddag. Højskolepræst: Jørgen Thaarup\nSpændende foredrag eftermiddag og aften.\nUdflugt til et smukt sted i nærheden.\nVærksteder med aktiviteter til kreative hænder og handy-mænd.\nI pauserne spiller og leger vi.\nGodnat-historie for natteravne.  \n\nSommerhøjskolen afholdes på Feriecentret Solborgen\,  Metodistkirkens ferielejr ved Sejrøbugten: Standgårdsleddet 2\, Hønsinge Lyng\, 4560 Vig. \n\nVi bor på selve Solbogen samt et sommerhus\n\nLæs folder for Sommerhøjskolen 2018 her: Sommerhøjskole folder \nSe mere om Sommerhøjskolen her
URL:https://www.metodistkirken.dk/kalender/sommerhoejskole/
LOCATION:Solborgen\, Strandgårdsleddet 2\, Vig\, 4560\, Danmark
CATEGORIES:Lejre,Metodistkirken,Senior
ATTACH;FMTTYPE=image/png:https://www.metodistkirken.dk/wp-content/uploads/2018/03/Sommerhøjskole-billeder-2018.png
END:VEVENT
END:VCALENDAR