BEGIN:VCALENDAR
VERSION:2.0
PRODID:-//Metodistkirken i Danmark - ECPv6.15.20//NONSGML v1.0//EN
CALSCALE:GREGORIAN
METHOD:PUBLISH
X-WR-CALNAME:Metodistkirken i Danmark
X-ORIGINAL-URL:https://www.metodistkirken.dk
X-WR-CALDESC:Begivenheder for Metodistkirken i Danmark
REFRESH-INTERVAL;VALUE=DURATION:PT1H
X-Robots-Tag:noindex
X-PUBLISHED-TTL:PT1H
BEGIN:VTIMEZONE
TZID:Europe/Copenhagen
BEGIN:DAYLIGHT
TZOFFSETFROM:+0100
TZOFFSETTO:+0200
TZNAME:CEST
DTSTART:20170326T010000
END:DAYLIGHT
BEGIN:STANDARD
TZOFFSETFROM:+0200
TZOFFSETTO:+0100
TZNAME:CET
DTSTART:20171029T010000
END:STANDARD
BEGIN:DAYLIGHT
TZOFFSETFROM:+0100
TZOFFSETTO:+0200
TZNAME:CEST
DTSTART:20180325T010000
END:DAYLIGHT
BEGIN:STANDARD
TZOFFSETFROM:+0200
TZOFFSETTO:+0100
TZNAME:CET
DTSTART:20181028T010000
END:STANDARD
BEGIN:DAYLIGHT
TZOFFSETFROM:+0100
TZOFFSETTO:+0200
TZNAME:CEST
DTSTART:20190331T010000
END:DAYLIGHT
BEGIN:STANDARD
TZOFFSETFROM:+0200
TZOFFSETTO:+0100
TZNAME:CET
DTSTART:20191027T010000
END:STANDARD
END:VTIMEZONE
BEGIN:VEVENT
DTSTART;TZID=Europe/Copenhagen:20180524T160000
DTEND;TZID=Europe/Copenhagen:20180527T150000
DTSTAMP:20260424T173131
CREATED:20171011T100538Z
LAST-MODIFIED:20180306T111028Z
UID:10000037-1527177600-1527433200@www.metodistkirken.dk
SUMMARY:Pinseretræte
DESCRIPTION:Retræte i stilhed\, med Bibelmeditation over tekster om Helligånden – og vores tørst og længsel. \nRetrætens redskaber er stilhed\, tidebønner og ledt meditation over Bibeltekster i klassisk kristen tradition. Der kræves ingen særlig forudsætninger for at deltage. \nRetræten afholdes i Skovhuset\, der ligger gemt i nogle skovklædte bakker uden for landsbyen Sdr. Vissing i Brædstrup kommune\, ca. 20 km fra hhv. Skanderborg\, Horsens og Silkeborg. \nAdresse: Gudenåvej 19\, Sønder Vissing Tlf. 7575 4321 \nTILMELDING:  senest d. 1. 5. til: e-mail: tilmelding@retreatehus.dk eller telefon 30747321\, Yvonne Vestereng \nRetræteleder: Charlotte Thaarup\, metodistpræst\, regional kirkeleder Equmeniakyrkan\, Skåne og Blekinge e-mail: charlotte@thaarup.biz Telefon 53842106 \nPraktisk vært: Susanne Andersen\, Østervrå Frikirke \nDownload folder om retræten her: Pinse 2018 skovhuset
URL:https://www.metodistkirken.dk/kalender/pinseretraete/
LOCATION:Skovhuset\, Danmark
CATEGORIES:Metodistkirken
END:VEVENT
END:VCALENDAR