BEGIN:VCALENDAR
VERSION:2.0
PRODID:-//Metodistkirken i Danmark - ECPv6.15.20//NONSGML v1.0//EN
CALSCALE:GREGORIAN
METHOD:PUBLISH
X-ORIGINAL-URL:https://www.metodistkirken.dk
X-WR-CALDESC:Begivenheder for Metodistkirken i Danmark
REFRESH-INTERVAL;VALUE=DURATION:PT1H
X-Robots-Tag:noindex
X-PUBLISHED-TTL:PT1H
BEGIN:VTIMEZONE
TZID:Europe/Tallinn
BEGIN:DAYLIGHT
TZOFFSETFROM:+0200
TZOFFSETTO:+0300
TZNAME:EEST
DTSTART:20180325T010000
END:DAYLIGHT
BEGIN:STANDARD
TZOFFSETFROM:+0300
TZOFFSETTO:+0200
TZNAME:EET
DTSTART:20181028T010000
END:STANDARD
BEGIN:DAYLIGHT
TZOFFSETFROM:+0200
TZOFFSETTO:+0300
TZNAME:EEST
DTSTART:20190331T010000
END:DAYLIGHT
BEGIN:STANDARD
TZOFFSETFROM:+0300
TZOFFSETTO:+0200
TZNAME:EET
DTSTART:20191027T010000
END:STANDARD
BEGIN:DAYLIGHT
TZOFFSETFROM:+0200
TZOFFSETTO:+0300
TZNAME:EEST
DTSTART:20200329T010000
END:DAYLIGHT
BEGIN:STANDARD
TZOFFSETFROM:+0300
TZOFFSETTO:+0200
TZNAME:EET
DTSTART:20201025T010000
END:STANDARD
END:VTIMEZONE
BEGIN:VEVENT
DTSTART;TZID=Europe/Tallinn:20190919T080000
DTEND;TZID=Europe/Tallinn:20190922T170000
DTSTAMP:20260423T161444
CREATED:20181025T092530Z
LAST-MODIFIED:20190409T100701Z
UID:10000008-1568880000-1569171600@www.metodistkirken.dk
SUMMARY:School of Congregational Development 2019
DESCRIPTION:School of Congregational Development 2019 “Called2Change” finder sted i Tallinn d. 19.-22. september 2019. \nFølg med i Called2Change på facebook \nPå listen over forskellige tracks er der indtil videre: \n\nKreativitet/drama/musik\nBørn og unge\nKirkeplantninger og vækst\nTjeneste med immigranter og muslimer\nÅndelig fornyelse af kirken\n\nHovedtalerne bliver præst Barry Sloan og præst Martin Atkins \nHer finder du invitationen til Called2Change. \nProgramme for the SoCD 2019: \nThursday\n17.00 Registration\n18.30 Meal\n19.30 Opening Worship\n– Play it by Ear\n– Worship\n– Christian Alsted. Theme: Called to change\n– Host: Maria Thaarup\, Reading: Saara Heimonen\n21.00 Café – no programme\, fellowship \n\nFriday\n08.00 Registration – local team\n08.30 Morning devotion and worship\, Play it by Ear. Host: Maria\n09.00 Plenary session\n– Martyn Atkins. Theme: Missional Church Development in the 21st Century\n10.00 Reflection with your team/church\n10.30 Coffee break\n11.00 Plenary session\n– Barry Sloan. Theme: ”Ladies and Gentlemen\, the Church has left the building”\n12.00 Reflection with your team/church\n12.30 Lunch\n14.00 Tracks\n1) Rethink Church\n– Martyn Atkins\n2) Rethink Church: New Places for New People\n– Barry Sloan\n3) Ministry with migrants\n– Mark Lewis/Mai-Brit Tvilling/Ingull Grefslie/”X” Finland\n4) YMCA – Youth Ministry Can Arise\n– Maria Thaarup/Andreas Fjordrov/Daniel Steinvig\n5) Ministry with Children\n– Anne Thompson/Carolyn Edwards\n6) Creative communication/”preaching”\n– Play it by Ear\n7) Change\, from inside/out\n– Sarah Tiainen\, Jori Brander\, team from Finland\n8) Rethink music\n– Band from UMC Norway\nNB! Some tracks may be offered only once depending on number of sign up\n15.30 Coffee\n16.00 track continued\n17:00 Time off\n18.00 Dinner (optional)\n20.00 Evening off / Café open \nSaturday\n08.30 Gathering time\nMorning devotion & worship\, Play it by Ear\n09.00 Plenary session\n– Bishop Christian Alsted. Theme: Missional Church Development in the 21st Century\n10.00 Reflection with your team/church\n10:30 Coffee break\n11.00 Leading from here to there – Breaking growth barriers:\n1. Small to midsize church – Thomas Risager\n2. Midsize to large church – Jørgen Thaarup\n3. Large to x-large church – Jon Løvland\n12.00 Reflection with your team/church\n12.30 Lunch\n14.00 Tracks:\n1) Rethink Church\n– Martyn Atkins\n2) Rethink Church: New Places for New People\n– Barry Sloan\n3) Ministry with migrants\n– Mark Lewis/Mai-Brit Tvilling/Ingull Grefslie/”X” Finland\n4) YMCA – Youth Ministry Can Arise\n– Maria Thaarup/Andreas Fjordrov/Daniel Steinvig\n5) Ministry with Children\n– Anne Thompson/Carolyn Edwards\n6) Creative communication/”preaching”\n– Play it by Ear\n7) Change\, from inside/out\n– Sarah Tiainen\, Jori Brander\, team from Finland\n8) Rethink music\n– Band from UMC Norway\n15.30 Coffee\n16.00 Track continued\n17:00 Time off\n18.00 Dinner\n19.30 Evening service “Calling” Leader: Sarah Tiainen\nBand \nSunday\n10.00 Sending Service\n– Martyn Atkins preaching – Bishop Alsted will say a word of sending\n– leader: Maria Thaarup\n12.00 Lunch and departure \n\nFølg med i Called2Change på facebook.
URL:https://www.metodistkirken.dk/kalender/school-of-congregational-development-2019/
CATEGORIES:MBUF,Metodistkirken
ATTACH;FMTTYPE=image/jpeg:https://www.metodistkirken.dk/wp-content/uploads/2018/10/called2change-facebook.jpg
END:VEVENT
END:VCALENDAR