BEGIN:VCALENDAR
VERSION:2.0
PRODID:-//Metodistkirken i Danmark - ECPv6.15.20//NONSGML v1.0//EN
CALSCALE:GREGORIAN
METHOD:PUBLISH
X-WR-CALNAME:Metodistkirken i Danmark
X-ORIGINAL-URL:https://www.metodistkirken.dk
X-WR-CALDESC:Begivenheder for Metodistkirken i Danmark
REFRESH-INTERVAL;VALUE=DURATION:PT1H
X-Robots-Tag:noindex
X-PUBLISHED-TTL:PT1H
BEGIN:VTIMEZONE
TZID:Europe/Copenhagen
BEGIN:DAYLIGHT
TZOFFSETFROM:+0100
TZOFFSETTO:+0200
TZNAME:CEST
DTSTART:20170326T010000
END:DAYLIGHT
BEGIN:STANDARD
TZOFFSETFROM:+0200
TZOFFSETTO:+0100
TZNAME:CET
DTSTART:20171029T010000
END:STANDARD
BEGIN:DAYLIGHT
TZOFFSETFROM:+0100
TZOFFSETTO:+0200
TZNAME:CEST
DTSTART:20180325T010000
END:DAYLIGHT
BEGIN:STANDARD
TZOFFSETFROM:+0200
TZOFFSETTO:+0100
TZNAME:CET
DTSTART:20181028T010000
END:STANDARD
BEGIN:DAYLIGHT
TZOFFSETFROM:+0100
TZOFFSETTO:+0200
TZNAME:CEST
DTSTART:20190331T010000
END:DAYLIGHT
BEGIN:STANDARD
TZOFFSETFROM:+0200
TZOFFSETTO:+0100
TZNAME:CET
DTSTART:20191027T010000
END:STANDARD
END:VTIMEZONE
BEGIN:VEVENT
DTSTART;TZID=Europe/Copenhagen:20180509T143000
DTEND;TZID=Europe/Copenhagen:20180513T150000
DTSTAMP:20260424T153606
CREATED:20171011T092207Z
LAST-MODIFIED:20171011T124743Z
UID:10000062-1525876200-1526223600@www.metodistkirken.dk
SUMMARY:Staunen!en - den Europæiske Festival
DESCRIPTION:Staunen!en – den Europæiske Festival foregår i Kristi Himmelfartsdagene ved Dünenhof\, Cuxhaven i Tyskland direkte ned til Nordsøen\, og er for alle\, der længes efter Gud og udsigt til horisonten. \nStaunen!en – den Europæiske Festival er ikke er undervisningskursus\, en kirke-retræte eller en gruppe-ferie: Det er en smule af alting og alligevel noget helt andet. \nStaunen!en – den Europæiske Festival lægger vægt på forskelle og søger at lukke hullerne\, der kommer fra vores egne begrænsninger. Aldrig har det været vigtigere at være opmærksomme på at gå sammen med hinanden på vores rejse\, og lytte til Gud sammen. Derfor ser vi frem til at byde børn\, unge og voksne velkommen fra Albanien\, Bulgarien\, Denmark\, Estland\, Finland\, Frankrig\, England\, Irland\, Italien\, Kroatien\, Letland\, Litauen\, Makedonien\, Norge\, Østrig\, Polen\, Portugal\, Rumænien\, Rusland\, Sverige\, Schweitz\, Serbien\, Slovakiet\, Spanien\, Tjekkoslovakiet\, Ungarn\,Tyskland og … \nFor mere information om Staunen!en – den Europæiske Festival: \nDownload folder  \nBesøg Staunen!ens hjemmeside. \n 
URL:https://www.metodistkirken.dk/kalender/staunenen-europaeiske-festival/
LOCATION:DÜNENHOF\, In den Dünen\, Cuxhaven\, 27476\, Germany
CATEGORIES:Lejre,MBUF,Metodistkirken
ATTACH;FMTTYPE=image/png:https://www.metodistkirken.dk/wp-content/uploads/2017/10/Staunen-billede.png
END:VEVENT
BEGIN:VEVENT
DTSTART;TZID=Europe/Copenhagen:20180524T160000
DTEND;TZID=Europe/Copenhagen:20180527T150000
DTSTAMP:20260424T153606
CREATED:20171011T100538Z
LAST-MODIFIED:20180306T111028Z
UID:10000037-1527177600-1527433200@www.metodistkirken.dk
SUMMARY:Pinseretræte
DESCRIPTION:Retræte i stilhed\, med Bibelmeditation over tekster om Helligånden – og vores tørst og længsel. \nRetrætens redskaber er stilhed\, tidebønner og ledt meditation over Bibeltekster i klassisk kristen tradition. Der kræves ingen særlig forudsætninger for at deltage. \nRetræten afholdes i Skovhuset\, der ligger gemt i nogle skovklædte bakker uden for landsbyen Sdr. Vissing i Brædstrup kommune\, ca. 20 km fra hhv. Skanderborg\, Horsens og Silkeborg. \nAdresse: Gudenåvej 19\, Sønder Vissing Tlf. 7575 4321 \nTILMELDING:  senest d. 1. 5. til: e-mail: tilmelding@retreatehus.dk eller telefon 30747321\, Yvonne Vestereng \nRetræteleder: Charlotte Thaarup\, metodistpræst\, regional kirkeleder Equmeniakyrkan\, Skåne og Blekinge e-mail: charlotte@thaarup.biz Telefon 53842106 \nPraktisk vært: Susanne Andersen\, Østervrå Frikirke \nDownload folder om retræten her: Pinse 2018 skovhuset
URL:https://www.metodistkirken.dk/kalender/pinseretraete/
LOCATION:Skovhuset\, Danmark
CATEGORIES:Metodistkirken
END:VEVENT
BEGIN:VEVENT
DTSTART;TZID=Europe/Copenhagen:20180531T190000
DTEND;TZID=Europe/Copenhagen:20180603T113000
DTSTAMP:20260424T153606
CREATED:20171011T100955Z
LAST-MODIFIED:20180306T115752Z
UID:10000038-1527793200-1528025400@www.metodistkirken.dk
SUMMARY:Landsmøde 2018
DESCRIPTION:Metodistkirkens Landsmøde 2018 afholdes d. 31. maj til 3. juni på Idrætsefterskolen Lægården. Metodistkirkens Landsledelse har inviteret sammen med MBUF (Metodistkirkens Børne- og Ungdomsforbund) \nLandsmøde 2018 invitation \nVi sætter spor \nVelkommen til Metodistkirkens landsmøde 2018 i dagene 31. maj-3. juni på Lægården i Holstebro. Årskonferencen og MBUF’s delegeretmøde samles til inspirerende dage om hvordan vi som kirke og som kristne sætter spor i verden i fortiden\, nutiden og fremtiden. \nBiskop Christian Alsted vil undervise og udfordre os til at være kirke i dag. Ved biskoppens hjørne fredag og lørdag eftermiddag samt ved afslutningsgudstjenesten stiller han skarpt på forkyndelsen om at skabe Jesu Kristi disciple til forandring af verden. \nBørnenes landsmøde\nBørn er naturligvis også velkomne på landsmødet. Fra fredag aften er der program for børn fra 4/5-13 år. For de allermindste bliver der indrettet et legehjørne i hallen\, hvor Landsmødets forhandlinger og møder primært afholdes. \nSøndag er der børnekirke også for de børn\, der kommer som gæster denne dag. \nFørsteholdet\nIgen i år vil det være muligt at melde sig til ”Førsteholdet”\, hvis man er mellem 13 og 23 år. Førsteholdet vil sammen med deres personlige træner blive særligt introduceret til den demokratiske proces på et landsmøde. Man får lov at smide håndklædet i ringen\, når forhandlingerne bliver for langhårede og selv præsterne er faldet i søvn eller tænde den røde sirene\, når man rent faktisk tør og vil sige sin mening og blive hørt. \nSamling for lægfolk\nKonferencelægleder Bettina Pedersen vil i år lave en samling for lægfolk torsdag kl. 16.00 . Bettina Pedersen vil med en kop kaffe byde velkommen med inspiration/samtale om at ”sætte spor” i vore menigheder. \nPraktiske oplysninger \nLandsmødet afholdes på Metodistkirkens Idrætsefterskole: Lægården\, Lægårdvej 72\, 7500 Holstebro \nPriser for deltagelse i hele Landsmødet er: \nÅrskonference delegater kr. 1200\,-\nMBUF Delegater 700\,-*\nØvrige deltagere kr. 700\,-\nBørn (4-14 år) kr. 400\,-\nBørn (0-3 år) Gratis \nLeje af dyne\, pude og sengelinned til værelser koster kr. 100\,-\nEnkeltmåltider kr. 50\,- (kr. 25\,- for børn) \n* MBUF delegater deltager til reduceret pris\, fordi de først forventes at ankomme fredag til aftenprogrammet. Den reducerede pris gives ikke til enkeltpersoner\, men til lokalforeningerne\, som betaler for deres delegater. Bemærk\, at det ikke kan lade sig gøre i år at være dobbelt repræsentant\, dvs. både at være delegeret for sin menighed og for en MBUF lokalforening. Grunden til dette er\, at en stor del af forhandlingsprogrammet foregår parallelt. \nFor yderligere oplysninger se www.metodistkirken.dk
URL:https://www.metodistkirken.dk/kalender/landsmoede-2018/
LOCATION:Idrætsefterskolen Lægården\, Lægårdvej 72\, Holstebro\, 7500
CATEGORIES:MBUF,Metodistkirken
ATTACH;FMTTYPE=image/png:https://www.metodistkirken.dk/wp-content/uploads/2018/02/Vi-sætter-spor-facebookbanner.png
END:VEVENT
END:VCALENDAR