BEGIN:VCALENDAR
VERSION:2.0
PRODID:-//Metodistkirken i Danmark - ECPv6.15.20//NONSGML v1.0//EN
CALSCALE:GREGORIAN
METHOD:PUBLISH
X-WR-CALNAME:Metodistkirken i Danmark
X-ORIGINAL-URL:https://www.metodistkirken.dk
X-WR-CALDESC:Begivenheder for Metodistkirken i Danmark
REFRESH-INTERVAL;VALUE=DURATION:PT1H
X-Robots-Tag:noindex
X-PUBLISHED-TTL:PT1H
BEGIN:VTIMEZONE
TZID:Europe/Copenhagen
BEGIN:DAYLIGHT
TZOFFSETFROM:+0100
TZOFFSETTO:+0200
TZNAME:CEST
DTSTART:20190331T010000
END:DAYLIGHT
BEGIN:STANDARD
TZOFFSETFROM:+0200
TZOFFSETTO:+0100
TZNAME:CET
DTSTART:20191027T010000
END:STANDARD
BEGIN:DAYLIGHT
TZOFFSETFROM:+0100
TZOFFSETTO:+0200
TZNAME:CEST
DTSTART:20200329T010000
END:DAYLIGHT
BEGIN:STANDARD
TZOFFSETFROM:+0200
TZOFFSETTO:+0100
TZNAME:CET
DTSTART:20201025T010000
END:STANDARD
BEGIN:DAYLIGHT
TZOFFSETFROM:+0100
TZOFFSETTO:+0200
TZNAME:CEST
DTSTART:20210328T010000
END:DAYLIGHT
BEGIN:STANDARD
TZOFFSETFROM:+0200
TZOFFSETTO:+0100
TZNAME:CET
DTSTART:20211031T010000
END:STANDARD
BEGIN:DAYLIGHT
TZOFFSETFROM:+0100
TZOFFSETTO:+0200
TZNAME:CEST
DTSTART:20220327T010000
END:DAYLIGHT
BEGIN:STANDARD
TZOFFSETFROM:+0200
TZOFFSETTO:+0100
TZNAME:CET
DTSTART:20221030T010000
END:STANDARD
END:VTIMEZONE
BEGIN:VEVENT
DTSTART;TZID=Europe/Copenhagen:20201228T120000
DTEND;TZID=Europe/Copenhagen:20210102T120000
DTSTAMP:20260423T225209
CREATED:20201013T101704Z
LAST-MODIFIED:20201116T105632Z
UID:10000020-1609156800-1609588800@www.metodistkirken.dk
SUMMARY:MU nytårslejr 2020 - ONLINE
DESCRIPTION:Nytårslejren 2020/21 aflyses i sin fysiske form\, men vi ses virtuelt! Hold dig opdateret i Facebookgruppen MU – Metodistkirkens Unge 🙂
URL:https://www.metodistkirken.dk/kalender/mu-nytaarslejr-2020-online/
CATEGORIES:MBUF,Unge
ATTACH;FMTTYPE=image/jpeg:https://www.metodistkirken.dk/wp-content/uploads/2020/10/120812752_10218197933921933_259674899745547171_o.jpg
END:VEVENT
END:VCALENDAR