BEGIN:VCALENDAR
VERSION:2.0
PRODID:-//Metodistkirken i Danmark - ECPv6.15.20//NONSGML v1.0//EN
CALSCALE:GREGORIAN
METHOD:PUBLISH
X-ORIGINAL-URL:https://www.metodistkirken.dk
X-WR-CALDESC:Begivenheder for Metodistkirken i Danmark
REFRESH-INTERVAL;VALUE=DURATION:PT1H
X-Robots-Tag:noindex
X-PUBLISHED-TTL:PT1H
BEGIN:VTIMEZONE
TZID:Europe/Copenhagen
BEGIN:DAYLIGHT
TZOFFSETFROM:+0100
TZOFFSETTO:+0200
TZNAME:CEST
DTSTART:20170326T010000
END:DAYLIGHT
BEGIN:STANDARD
TZOFFSETFROM:+0200
TZOFFSETTO:+0100
TZNAME:CET
DTSTART:20171029T010000
END:STANDARD
BEGIN:DAYLIGHT
TZOFFSETFROM:+0100
TZOFFSETTO:+0200
TZNAME:CEST
DTSTART:20180325T010000
END:DAYLIGHT
BEGIN:STANDARD
TZOFFSETFROM:+0200
TZOFFSETTO:+0100
TZNAME:CET
DTSTART:20181028T010000
END:STANDARD
BEGIN:DAYLIGHT
TZOFFSETFROM:+0100
TZOFFSETTO:+0200
TZNAME:CEST
DTSTART:20190331T010000
END:DAYLIGHT
BEGIN:STANDARD
TZOFFSETFROM:+0200
TZOFFSETTO:+0100
TZNAME:CET
DTSTART:20191027T010000
END:STANDARD
BEGIN:DAYLIGHT
TZOFFSETFROM:+0100
TZOFFSETTO:+0200
TZNAME:CEST
DTSTART:20200329T010000
END:DAYLIGHT
BEGIN:STANDARD
TZOFFSETFROM:+0200
TZOFFSETTO:+0100
TZNAME:CET
DTSTART:20201025T010000
END:STANDARD
END:VTIMEZONE
BEGIN:VEVENT
DTSTART;TZID=Europe/Copenhagen:20181228T160000
DTEND;TZID=Europe/Copenhagen:20190102T120000
DTSTAMP:20260425T124700
CREATED:20181004T104839Z
LAST-MODIFIED:20181004T104839Z
UID:10000024-1546012800-1546430400@www.metodistkirken.dk
SUMMARY:Nytårslejr 18/19
DESCRIPTION:Forstår du heller ikke altid de gamle ord fra bibelen og ham den super kloge Jesus? Så må vi fortælle dig\, at du er langt fra alene! \nMU – Metodistkirkens Unge inviterer til nytår\, hvor vi gør Jesus UNG med de unge. Vi gør ham HIP i 2018. For er Jesus version 2.0 kioskejer\, youtuber\, fortnite-gamer eller måske endda bare en tør bankmand? \nMed 2000 år på bagen er det NYE testamente i det hele taget ikke særlig nyt længere. Faktisk er det helt fint sige sige; totalt gammelt! DERFOR : tag med når vi sammen skal opleve det NYESTE testamente\, når vi skal teste\, hvordan det hele kunne have foregået i dag og når vi sammen skal forstå\, hvordan en 2000 år gammel bog\, stadig kan være relavant i dag. \nTag en ven/discipel med i hånden når NYTÅRSLEJREN 2018/2019 i år vil fyldes med andre disciple\, kioskejere\, skriftkloge\, vagabonder\,farisæere\, youtubere\, spedalske og mange mange flere. For hvis du også mangler en tolk\, der taler ‘JESUSK’ og synes\, at det NYE testamente godt kunne bruge lidt FORNYELSE\, så hjælp os\, når vi sammen finder ud af\, hvem JESUS var for en FÆTTER\, og hvordan det nye evangelium ville udspille sig i dag. New year\, new Jesus\, som de siger. \nMed det NYESTE nytår bliver \ndet NYESTE testamente til. \n___________________________________ \n TIDSPUNKT ::: 28 december kl. 16.00 – 02. Januar kl. 13.00 \nTILMELDING ::: Christian Madsen (53 65 40 37) OG Jeanne Helsinghof (31 75 01 70)   \nSTED ::: Solborgen\, Strandgårdsleddet 2\, Hønsinge Lyng\, 4560 Vig.  \nALDER ::: 13+ eller kommende konfirmand. \nPRIS ::: 500\,- \nOBS: konfirmanders ophold + transport betales af menighederne. (rejserefusion gives MBUFs medlemmer ved transportudgifter over 200\,-) \nKOSTUMEFORSLAG ::: Johannes DJ’én\, Maria Musical.ly\, Judas Floss\, Adidas-Jesus\,Pepsi-Paulus eller din fortolkning af en person eller begivenhed fra det “nye” testamente. \nHUSK ::: Sengetøj\, lagen\, håndklæde\, sutsko\, tøj til udendørs brug\, sportstøj\, biblen og UDKLÆDNING til nytårsaften. Medbring også rigtig gerne brætspil og fyrværkeri.
URL:https://www.metodistkirken.dk/kalender/nytaarslejr-18-19/
LOCATION:Solborgen\, Strandgårdsleddet 2\, Vig\, 4560\, Danmark
CATEGORIES:Lejre,MBUF,Unge
ATTACH;FMTTYPE=image/jpeg:https://www.metodistkirken.dk/wp-content/uploads/2018/10/2019NL_invi_facebook.jpg
END:VEVENT
END:VCALENDAR