BEGIN:VCALENDAR
VERSION:2.0
PRODID:-//Metodistkirken i Danmark - ECPv6.15.20//NONSGML v1.0//EN
CALSCALE:GREGORIAN
METHOD:PUBLISH
X-WR-CALNAME:Metodistkirken i Danmark
X-ORIGINAL-URL:https://www.metodistkirken.dk
X-WR-CALDESC:Begivenheder for Metodistkirken i Danmark
REFRESH-INTERVAL;VALUE=DURATION:PT1H
X-Robots-Tag:noindex
X-PUBLISHED-TTL:PT1H
BEGIN:VTIMEZONE
TZID:Europe/Copenhagen
BEGIN:DAYLIGHT
TZOFFSETFROM:+0100
TZOFFSETTO:+0200
TZNAME:CEST
DTSTART:20170326T010000
END:DAYLIGHT
BEGIN:STANDARD
TZOFFSETFROM:+0200
TZOFFSETTO:+0100
TZNAME:CET
DTSTART:20171029T010000
END:STANDARD
BEGIN:DAYLIGHT
TZOFFSETFROM:+0100
TZOFFSETTO:+0200
TZNAME:CEST
DTSTART:20180325T010000
END:DAYLIGHT
BEGIN:STANDARD
TZOFFSETFROM:+0200
TZOFFSETTO:+0100
TZNAME:CET
DTSTART:20181028T010000
END:STANDARD
BEGIN:DAYLIGHT
TZOFFSETFROM:+0100
TZOFFSETTO:+0200
TZNAME:CEST
DTSTART:20190331T010000
END:DAYLIGHT
BEGIN:STANDARD
TZOFFSETFROM:+0200
TZOFFSETTO:+0100
TZNAME:CET
DTSTART:20191027T010000
END:STANDARD
END:VTIMEZONE
BEGIN:VEVENT
DTSTART;TZID=Europe/Copenhagen:20180730T140000
DTEND;TZID=Europe/Copenhagen:20180804T150000
DTSTAMP:20260425T211535
CREATED:20180314T200817Z
LAST-MODIFIED:20180426T094240Z
UID:10000032-1532959200-1533394800@www.metodistkirken.dk
SUMMARY:MU Sommerlejr 2018
DESCRIPTION:MU SOMMERLEJR 2018 \nNogen foretrækker charter andre elsker STORBYFERIE. MU – metodistkirkens unge kalder alle mand\, når vi sender alle vågne blikke mod byenernes by denne sommer; KØBENHAVN. \nSom turist i byen må man huske\, at det farligste i den københavnske sommer faktisk ER TURISTER på cykler\, der aldrig har oplevet to hjul under dem før\, og det smukkeste er at hoppe i havnebadet og drikke limonader imens byen summer af liv og smil – og man kan høre rundboldbattet svinge\, dufte grillen\, som tænder og lytte til gaderne som lever.  \nVELKOMMEN til en sommerlejr der byder på lidt af hvert og alt af det hele. Vi skal snakke\, diskutere\, bede\, holde gudstjeneter og lave spas og grimasser i en stor sammensmeltning af godt humør og plads til udvikling.  \nVI glæder os til at fejre sommeren med DIG. \n———————— \nALDER\nDu skal være 13 år eller kommende konfirmand for at kunne deltage. \nTIDSPUNKT\n 30.07.2018 – 04.08.18 \nSTED\nJerusalemskirken\, Rigensgade 19\, 1316 KBH K \nTILMELDING\nJonatan Steinvig (21124956)\n eller Jeanne Helsinghof (31750170) \nPRIS\n500 kr. (der gives rejserefusion for MBUFs medlemmer ved transportudgifter over 300\,-) \nSOMMERESSENTIALS\nSovepose\, underlag\, håndklæde\, sutsko\, badetøj\, tøj til udendørsbrug\, sportstøj\, bibel. Lommepenge til is. \nDownload invitationen her: Invitation2018sommerlejr \n 
URL:https://www.metodistkirken.dk/kalender/mu-sommerlejr/
LOCATION:Jerusalemskirken\, Rigensgade 19\, København K.\, 1316\, Danmark
CATEGORIES:Lejre,MBUF,Unge
ATTACH;FMTTYPE=image/jpeg:https://www.metodistkirken.dk/wp-content/uploads/2018/03/Invitation2018sommerlejr.jpg
END:VEVENT
END:VCALENDAR