BEGIN:VCALENDAR
VERSION:2.0
PRODID:-//Metodistkirken i Danmark - ECPv6.15.20//NONSGML v1.0//EN
CALSCALE:GREGORIAN
METHOD:PUBLISH
X-WR-CALNAME:Metodistkirken i Danmark
X-ORIGINAL-URL:https://www.metodistkirken.dk
X-WR-CALDESC:Begivenheder for Metodistkirken i Danmark
REFRESH-INTERVAL;VALUE=DURATION:PT1H
X-Robots-Tag:noindex
X-PUBLISHED-TTL:PT1H
BEGIN:VTIMEZONE
TZID:Europe/Copenhagen
BEGIN:DAYLIGHT
TZOFFSETFROM:+0100
TZOFFSETTO:+0200
TZNAME:CEST
DTSTART:20170326T010000
END:DAYLIGHT
BEGIN:STANDARD
TZOFFSETFROM:+0200
TZOFFSETTO:+0100
TZNAME:CET
DTSTART:20171029T010000
END:STANDARD
BEGIN:DAYLIGHT
TZOFFSETFROM:+0100
TZOFFSETTO:+0200
TZNAME:CEST
DTSTART:20180325T010000
END:DAYLIGHT
BEGIN:STANDARD
TZOFFSETFROM:+0200
TZOFFSETTO:+0100
TZNAME:CET
DTSTART:20181028T010000
END:STANDARD
BEGIN:DAYLIGHT
TZOFFSETFROM:+0100
TZOFFSETTO:+0200
TZNAME:CEST
DTSTART:20190331T010000
END:DAYLIGHT
BEGIN:STANDARD
TZOFFSETFROM:+0200
TZOFFSETTO:+0100
TZNAME:CET
DTSTART:20191027T010000
END:STANDARD
END:VTIMEZONE
BEGIN:VEVENT
DTSTART;TZID=Europe/Copenhagen:20180518T200000
DTEND;TZID=Europe/Copenhagen:20180521T120000
DTSTAMP:20260426T020131
CREATED:20180206T103043Z
LAST-MODIFIED:20180306T111142Z
UID:10000036-1526673600-1526904000@www.metodistkirken.dk
SUMMARY:Den Sorte Kutter - LPK 2018
DESCRIPTION:Ohøj!\nDet er med stor glæde at kunne meddele jer\, at I i særdeleshed er kvalificerede til at modtage et weekendophold d. 18. – 21. maj 2018 på den gamle idylliske kro ‘Den Sorte Kutter’. Den skønne\nkro ligger smukt placeret i det mondæne Strandby\, Nordjylland. \nSamtidig er det mig en stor ære at kunne invitere jer med til tidligere lejrlæge Hubert Buhls 100 års spejderjubilæum. At have 100 års jubilæum er bestemt ikke for sjov\, og derfor inviteres I til stor gallafest søndag aften. \n\nReglementeret påklædning er spejdergallauniform\, hvilket selvfølgelig betyder spejderuniform med alt\, hvad dertil hører af kvaster\, ordener\, stjerner\, kors\, skråbånd\, fløjtesnore\, hatte\, medaljer\, knæstrømper\, tørklæder mm. \nFølg med i\, hvad der sker på kroen\, på facebook.com/DenSorteKutter. Det er også hertil at fremtidige hjemmeopgaver skal sendes. Så smid et lille finurligt ‘like’ og vær med! \nDa der skal reserveres værelser\, må jeg allerhøfligst anmode om en tilbagemelding snarest på følgende mail: kirsten2402@hotmail.com.\nSU: 10. april 2018. \nDer er mulighed for indtjekning på kroen fredag d. 18. maj fra kl. 20 af\, og I bedes være tjekket ud senest mandag d. 21. maj kl. 12. \nÆrbødigst\nOvertjener Lemmuks
URL:https://www.metodistkirken.dk/kalender/sorte-kutter-lpk-2018/
LOCATION:Strandby Metodistkirke\, Strandvej 36\, Strandby\, 7100\, Danmark
CATEGORIES:Lejre,MBUF,Spejder
ATTACH;FMTTYPE=image/png:https://www.metodistkirken.dk/wp-content/uploads/2018/02/Mærke-LPK-2018-.png
END:VEVENT
END:VCALENDAR