BEGIN:VCALENDAR
VERSION:2.0
PRODID:-//Metodistkirken i Danmark - ECPv6.15.20//NONSGML v1.0//EN
CALSCALE:GREGORIAN
METHOD:PUBLISH
X-ORIGINAL-URL:https://www.metodistkirken.dk
X-WR-CALDESC:Begivenheder for Metodistkirken i Danmark
REFRESH-INTERVAL;VALUE=DURATION:PT1H
X-Robots-Tag:noindex
X-PUBLISHED-TTL:PT1H
BEGIN:VTIMEZONE
TZID:Europe/Copenhagen
BEGIN:DAYLIGHT
TZOFFSETFROM:+0100
TZOFFSETTO:+0200
TZNAME:CEST
DTSTART:20170326T010000
END:DAYLIGHT
BEGIN:STANDARD
TZOFFSETFROM:+0200
TZOFFSETTO:+0100
TZNAME:CET
DTSTART:20171029T010000
END:STANDARD
BEGIN:DAYLIGHT
TZOFFSETFROM:+0100
TZOFFSETTO:+0200
TZNAME:CEST
DTSTART:20180325T010000
END:DAYLIGHT
BEGIN:STANDARD
TZOFFSETFROM:+0200
TZOFFSETTO:+0100
TZNAME:CET
DTSTART:20181028T010000
END:STANDARD
BEGIN:DAYLIGHT
TZOFFSETFROM:+0100
TZOFFSETTO:+0200
TZNAME:CEST
DTSTART:20190331T010000
END:DAYLIGHT
BEGIN:STANDARD
TZOFFSETFROM:+0200
TZOFFSETTO:+0100
TZNAME:CET
DTSTART:20191027T010000
END:STANDARD
END:VTIMEZONE
BEGIN:VEVENT
DTSTART;TZID=Europe/Copenhagen:20180426T180000
DTEND;TZID=Europe/Copenhagen:20180428T180000
DTSTAMP:20260426T033320
CREATED:20180208T100327Z
LAST-MODIFIED:20180306T111207Z
UID:10000029-1524765600-1524938400@www.metodistkirken.dk
SUMMARY:MS Solotur
DESCRIPTION:Kalder alle MS’er og andre friluftstosser! Har du set ‘Alene i vildmarken’? “Nøj\, hvor må det være vildt!”\, “Den bivuak kunne jeg lave bedre!” eller “Det kunne være fedt at prøve!”\nNU HAR DU CHANCEN! \nHenover vinteren har der været lidt snak om at smide en ny sten i søen\, MS Solotur. En mulighed for at komme afsted og få 24 timer helt for dig selv i skoven. Lav selv mad når du vil\, overnat hvor du vil og brug tiden som du vil!\nVi mødes i St. Bededagesweekenden d. 26.-28. april. Torsdag aften vil der være mulighed for at snakke sine overvejelser igennem og evt. præsentere nogle af de tanker man har gjort sig på forhånd. Der vil inden turen blive sendt lidt læsestof og nogle guides til overvejelser man bør gøre sig om udstyr\, målet med turen og evt. problemer mm. Fredag morgen vil der så blive givet de sidste instrukser inden der siges farvel ved 9-tiden. Så har du hele dagen\, aftenen og natten til at være dig selv\, inden vi igen samles lørdag morgen og deler oplevelserne. \n“Jeg har selv været på en sådan tur\, hvilket er en meget anderledes og særlig oplevelse. Man bliver overrasket både praktisk og følelsesmæssigt\, og tager uanset derfra en stærk oplevelse og erfaring rigere.” (Emil Morsbøl Marqversen) \nMålet er de 24 timer\, men bliver det for meget vil der være kontaktpersoner placeret i den fælles lejr under hele turen\, således man til enhver tid kan søge hjælp eller trække stikket. \nPraktiske ting:\n– Pris: 300kr.\n– Alder: min. 16 år\n– Tilmelding: til Emil Morsbøl Marqversen på 23116138 senest d. 20/4-18.\n– Medbring madpakke til aftensmad torsdag aften.\n– Man sørger selv for udstyr og proviantering de 24 timer man er alene.\n– Det er ikke tilladt at lave bål i området\, men man kan godt have en trangia med til madlavning. \nVi ser frem til en god og lærerig oplevelse
URL:https://www.metodistkirken.dk/kalender/ms-solotur/
LOCATION:Harrild Hede og Nørlund Plantage\, Danmark
CATEGORIES:Lejre,MBUF,Spejder
ATTACH;FMTTYPE=image/jpeg:https://www.metodistkirken.dk/wp-content/uploads/2018/02/MS-solotur.jpg
END:VEVENT
END:VCALENDAR