BEGIN:VCALENDAR
VERSION:2.0
PRODID:-//Metodistkirken i Danmark - ECPv6.15.20//NONSGML v1.0//EN
CALSCALE:GREGORIAN
METHOD:PUBLISH
X-WR-CALNAME:Metodistkirken i Danmark
X-ORIGINAL-URL:https://www.metodistkirken.dk
X-WR-CALDESC:Begivenheder for Metodistkirken i Danmark
REFRESH-INTERVAL;VALUE=DURATION:PT1H
X-Robots-Tag:noindex
X-PUBLISHED-TTL:PT1H
BEGIN:VTIMEZONE
TZID:Europe/Copenhagen
BEGIN:DAYLIGHT
TZOFFSETFROM:+0100
TZOFFSETTO:+0200
TZNAME:CEST
DTSTART:20170326T010000
END:DAYLIGHT
BEGIN:STANDARD
TZOFFSETFROM:+0200
TZOFFSETTO:+0100
TZNAME:CET
DTSTART:20171029T010000
END:STANDARD
BEGIN:DAYLIGHT
TZOFFSETFROM:+0100
TZOFFSETTO:+0200
TZNAME:CEST
DTSTART:20180325T010000
END:DAYLIGHT
BEGIN:STANDARD
TZOFFSETFROM:+0200
TZOFFSETTO:+0100
TZNAME:CET
DTSTART:20181028T010000
END:STANDARD
BEGIN:DAYLIGHT
TZOFFSETFROM:+0100
TZOFFSETTO:+0200
TZNAME:CEST
DTSTART:20190331T010000
END:DAYLIGHT
BEGIN:STANDARD
TZOFFSETFROM:+0200
TZOFFSETTO:+0100
TZNAME:CET
DTSTART:20191027T010000
END:STANDARD
END:VTIMEZONE
BEGIN:VEVENT
DTSTART;TZID=Europe/Copenhagen:20181005T200000
DTEND;TZID=Europe/Copenhagen:20181007T120000
DTSTAMP:20260425T160003
CREATED:20171011T101237Z
LAST-MODIFIED:20180830T093624Z
UID:10000039-1538769600-1538913600@www.metodistkirken.dk
SUMMARY:Konfirmandlejr og TUF 2018
DESCRIPTION:TUF står for Tro\, Udvikling og Fællesskab og er et kursusforløb for dig der er blevet overhørt/konfirmeret i foråret 2018. Du kan deltage i TUF tre gange\, altså i år\, i 2019 og 2020. Hvert år gennemgår du et af bogstaverne. I år skal du på kurset Tro. \nNår du deltager på TUF får du en overbygning på din konfirmationsundervisning og du vil her kunne udforske din egen personlige tro\, tale og diskutere med andre unge på din alder om det der med ham Gud og så lege\, grine og have det sjovt en hel weekend på Lægården. What’s not to like?\nTUF foregår parallelt med metodistkirkens konfirmandlejr. \nTUF foregår på Idrætsefterskolen Lægården\, Lægårdsvej 72\, 7500 Holstebro. \nVi starter fredag d. 5. oktober og slutter søndag d. 7. oktober.\nDet koster 250 kr. at deltage. (Konfirmandlejren betales for konfirmanden af den lokale menighed.) \nTilmelding sker via mail til Maria Thaarup på mailadressen: maria.thaarup@metodistkirken.dk eller via telefon 22801002 senest søndag d. 30. september. \nProgram:\nFredag\nKl. 20 Ankomst og check in\nKl. 21 Lets get to know each other og aftenkaffe\nKl. 22 Spil\, leg og hygge – hallen er åben\nKl. 00 Godnat og sov godt \nLørdag\nKl. 8 vækning\nKl. 8.30 morgenmad\nKl. 9.15 morgensamling og andagt\nKl. 9.30 Tro Udvikling og fællesskab: Kristen modenhed\nKl. 12 frokost\nKl. 13 Tro Udvikling og fællesskab: Kristen modenhed\nKl. 14 Gudstjenesteværksted\nKl. 16 Fælles action I hallen\nKl. 18 Aftensmad\nKl. 19:30 – kæmpe grineren mega sjovt aftensprogram\nKl. 21 – hygge\, leg og sjovskab i hallen \nSøndag\nKl. 8.30 vækning\nKl. 9 morgenmad\, pakning og oprydning\nKl.10 fælles gudstjeneste\nKl. 11 Madpakkepakning og fælleskrammer – tak for denne gang og afrejse \nIndbydelse konfirmandweekend 2018
URL:https://www.metodistkirken.dk/kalender/konfirmandlejr-tuf-2018/
LOCATION:Idrætsefterskolen Lægården\, Lægårdvej 72\, Holstebro\, 7500
CATEGORIES:Lejre,MBUF,Metodistkirken,Unge
ATTACH;FMTTYPE=image/png:https://www.metodistkirken.dk/wp-content/uploads/2017/10/TUF-logo.png
END:VEVENT
BEGIN:VEVENT
DTSTART;TZID=Europe/Copenhagen:20181012T190000
DTEND;TZID=Europe/Copenhagen:20181018T120000
DTSTAMP:20260425T160003
CREATED:20180621T123027Z
LAST-MODIFIED:20180621T123027Z
UID:10000026-1539370800-1539864000@www.metodistkirken.dk
SUMMARY:PFT 2018 - Kurserne du ikke vil gå glip af !
DESCRIPTION:Kurserne på patruljeførertræning :\nFærdighed (F fra 6. klasse): \nPå F får du hele pakken! Her vil du blive undervist i alt fra kort og kompas til førstehjælp og lejrliv. Medbring gode sko og rygsæk samt en smartphone med QR-scanner og data-adgang\, hvis muligt. \nPlanlægning (P fra 8. klasse): \nPå P får du et indblik i patruljeførerrollen. Derudover får du også masser af værktøjer til at lave og afholde de fedeste patruljemøder! \nTur (T fra 16 år): \nPå T bliver du klogere på dig selv og din patrulje. Her vil du opleve nye udfordringer både fysisk og psykisk og lære hvad det kræver for at lede en patrulje på tur.  Medbring gode sko og rygsæk. \nUndervisning (U fra 18 år) \nPå U arbejder vi med\, hvad der skaber en god undervisning og aktivitet på PFT. Derudover vil du få indblik og deltage i instruktørernes hverdag på PFT. \n \nHvor? \nKølhøjhus Spejdercenter\nBønfeltvej 25\, Astrup\n9510 Arden \nHvornår?\n12.-18. oktober 2018 \nTilmeldingsfrist\n9. september 2018 \nDeltagerpris\n1750 kr. \nRejsegodtgørelse\nJf. MBUF retningslinjer \nOvernatning:\nMedbring lagen\, hovedpude og sovepose. Kurserne F og T skal også medbringe liggeunderlag til overnatning i det fri. \nYderligere spørgsmål ? \nKontakt:\nAnna Rani Digebjerg\nAnna-rani-digebjerg@hotmail.com \nEmil M. Marqversen\nEmilmmarqversen@hotmail.com  \nOBS ved afmelding:\nVed afmelding efter tilmeldingsfristen opkræves 50% af deltagerprisen.\nVed afmeldinger ugen op til opkræves hele deltagerprisen. \nTilmelding\nTilmelding sker til din lokale gruppeleder.
URL:https://www.metodistkirken.dk/kalender/pft-2018-kurserne-du-ikke-vil-gaa-glip-af/
LOCATION:Kølhøjhus Spejdercenter\, Bønfeltvej 25\, Arden\, 9510\, Danmark
CATEGORIES:Lejre,MBUF,Spejder
ATTACH;FMTTYPE=image/png:https://www.metodistkirken.dk/wp-content/uploads/2018/06/PFT-logo.png
END:VEVENT
BEGIN:VEVENT
DTSTART;TZID=Europe/Copenhagen:20181013T110000
DTEND;TZID=Europe/Copenhagen:20181014T130000
DTSTAMP:20260425T160003
CREATED:20180712T084226Z
LAST-MODIFIED:20180823T131951Z
UID:10000027-1539428400-1539522000@www.metodistkirken.dk
SUMMARY:Betweenlejr i Vejle
DESCRIPTION:VELKOMMEN TIL BETWEENLEJR I VEJLE LØRDAG D. 13. OKTOBER KL.11.00 TIL SØNDAG D. 14. OKTOBER KL. 13.00. \nMØD VENNERNE FRA SOMMERENS BETWEENLEJR TIL HYGGE\, SJOV OG SPÆNDING.VI LAVER MAD SAMMEN\, LEGER\, SNAKKER OG GØR ALT DET\, DER GØR EN LEJR GOD. \n\n\n\n\nPraktisk information: \nSTED: METODISTKIRKEN I VEJLE\, VISSINGSAGDE 15M 7100 VEJLE \n\n\n\n\nHVORNÅR: LØRDAG D. 13. OKTOBER KL. 11.00 TIL SØNDAG D. 14. OKTOBER KL. 13.00 \nPRIS: 150 KR. + TRANSPORT HUSK: SOVEPOSE OG LIGGEUNDERLAG \nTILMELDING SENEST D. 6. OKTOBER TIL ELSEBETH BJERNO TLF. 23964403 \nELLER ANNE THOMPSON TLF. 24254524 ELLER VIA FACEBOOK \n\n\n\n2018 BETWEENLEJR
URL:https://www.metodistkirken.dk/kalender/betweenlejr-i-vejle/
LOCATION:Metodistkirken Vejle\, Vissingsgade 15\, Vejle\, 7100\, Danmark
CATEGORIES:Between,Lejre,MBUF
ATTACH;FMTTYPE=image/jpeg:https://www.metodistkirken.dk/wp-content/uploads/2018/07/2018-BETWEENLEJR.jpg
END:VEVENT
BEGIN:VEVENT
DTSTART;TZID=Europe/Copenhagen:20181020T100000
DTEND;TZID=Europe/Copenhagen:20181020T160000
DTSTAMP:20260425T160003
CREATED:20171011T084218Z
LAST-MODIFIED:20180306T111325Z
UID:10000053-1540029600-1540051200@www.metodistkirken.dk
SUMMARY:MBUF styrelsesmøde
DESCRIPTION:MBUF styrelsen mødes kl. 10.00-16.00. Denne gang i Metodistkirken i Odense.
URL:https://www.metodistkirken.dk/kalender/mbuf-styrelsesmoede-2/
LOCATION:Odense Metodistkirke\, Alexandragade 8\, Odense\, 5000\, Danmark
CATEGORIES:MBUF
END:VEVENT
END:VCALENDAR